BEGIN:VCALENDAR
VERSION:2.0
PRODID:-//wp-events-plugin.com//7.2.1//EN
TZID:America/New_York
X-WR-TIMEZONE:America/New_York
BEGIN:VEVENT
UID:696@townecrier.com
DTSTART;TZID=America/New_York:20260517T183000
DTEND;TZID=America/New_York:20260517T183000
DTSTAMP:20260417T193125Z
URL:https://townecrier.com/events/todd-albright-salon-stage/
SUMMARY:Todd Albright – Salon Stage
DESCRIPTION:\n\nComplimentary with Dinner\nOur Salon Stage provides Complim
 entary Live Music while you dine. We feature amazing local Hudson Valley a
 nd touring artists. Join us for dinner and you may discover one of your ne
 w favorite artists. As always\, we prioritize seating for guests who are j
 oining us for dinner. We also provide a great Tap Room for enjoying a cock
 tail or beer while listening to the live music on our Salon Stage.\n\nTodd
  Albright is a country blues\, twelve-string guitar player and vocalist ba
 sed in Detroit\, Michigan. Grounded in the pre-war era of the blues tradit
 ion (1880-1939)\, Todd is a mindful purveyor of blues history. His reperto
 ire upholds musical pillars such as Blind Willie McTell\, George Carter\, 
 Blind Lemon Jefferson and Leadbelly. His life’s work continues the disti
 nguished tradition of the very roots of American music as told by the Afri
 can American musicians who created it. Todd Albright joined Jack White’s
  Third Man Records in 2016.\n\nTodd’s vigorous\, gritty and soulful perf
 ormances are accompanied by stories of the masters and a deep intuitive se
 nse of respect for craft\, providing audiences with a meaningful experienc
 e while creating a transcendent moment.\n\n\nReservations suggested\; call
  845-855-1300 to book your table.\nhttps://www.youtube.com/watch?v=hkSr8is
 8pMg&amp\;t=9s\n\n
ATTACH;FMTTYPE=image/jpeg:https://townecrier.com/wp-content/uploads/2026/0
 4/Todd-Albright-web.jpg
CATEGORIES:Salon Stage
END:VEVENT
BEGIN:VTIMEZONE
TZID:America/New_York
X-LIC-LOCATION:America/New_York
BEGIN:DAYLIGHT
DTSTART:20260308T030000
TZOFFSETFROM:-0500
TZOFFSETTO:-0400
TZNAME:EDT
END:DAYLIGHT
END:VTIMEZONE
END:VCALENDAR