BEGIN:VCALENDAR
VERSION:2.0
PRODID:-//wp-events-plugin.com//7.2.1//EN
TZID:America/New_York
X-WR-TIMEZONE:America/New_York
BEGIN:VEVENT
UID:645@townecrier.com
DTSTART;TZID=America/New_York:20260503T190000
DTEND;TZID=America/New_York:20260503T190000
DTSTAMP:20260403T113646Z
URL:https://townecrier.com/events/steamroller-the-james-taylor-tribute/
SUMMARY:Steamroller - The James Taylor Tribute
DESCRIPTION:\nSteamroller is a masterful tribute to the music of James Tayl
 or\, featuring captivating performances of James Taylor favorites with sin
 galongs\, and an engaging look into the stories behind the creation of the
 se timeless\, classic additions to the American Songbook. Steamroller is a
 n unforgettable show you’ll want to see again and again!\nTickets $25 ad
 vance\, $30 door\nALL SALES ARE FINAL\n\n\nDINNER RESERVATIONS REQUIRE 1 
 ENTREE PER PERSON\n\nSHOW ONLY TICKETS ADMITTED 15 MINUTES BEFORE SHOWTIME
 \n\nADVANCE SALE PRICE ENDS 1 HOUR BEFORE DOORS\n\nhttps://www.youtube.com
 /watch?v=Gcsl7es2iDE\n\nhttps://www.youtube.com/watch?v=36GlNgNzRcw
ATTACH;FMTTYPE=image/jpeg:https://townecrier.com/wp-content/uploads/2026/0
 3/Steamroller-web.jpg
CATEGORIES:Main Stage
END:VEVENT
BEGIN:VTIMEZONE
TZID:America/New_York
X-LIC-LOCATION:America/New_York
BEGIN:DAYLIGHT
DTSTART:20260308T030000
TZOFFSETFROM:-0500
TZOFFSETTO:-0400
TZNAME:EDT
END:DAYLIGHT
END:VTIMEZONE
END:VCALENDAR