BEGIN:VCALENDAR
VERSION:2.0
PRODID:-//wp-events-plugin.com//7.2.1//EN
TZID:America/New_York
X-WR-TIMEZONE:America/New_York
BEGIN:VEVENT
UID:565@townecrier.com
DTSTART;TZID=America/New_York:20260213T200000
DTEND;TZID=America/New_York:20260213T200000
DTSTAMP:20260213T004223Z
URL:https://townecrier.com/events/soul-purpose-mardi-gras-celebration-with
 -guest-what-band/
SUMMARY:Soul Purpose Mardi Gras Celebration with guest What? Band
DESCRIPTION:\n\nSoul Purpose is a dynamic 7-piece band from New York’s Hu
 dson Valley\, known for their unique blend of New Orleans funk\, classic s
 oul\, and swinging rhythm &amp\; blues. With a powerhouse horn section\, d
 riving rhythm\, and soaring vocals\, the band delivers a high-energy live 
 experience that gets audiences on their feet and keeps them there.\n\nLead
  singer Sara Espinosa is joined by Dr. Lori Morris\, alto and tenor saxoph
 one\, percussion and background vocals\; Rich De Crosta\, trumpet\, flugel
 horn\, percussion and background vocals\; Cue Gerhards\, guitar and vocals
 \; Francis Ralston\, bass and background vocals\; Jerry Teters\, drums and
  Micheal Snow\, keyboards. More than a band\, Soul Purpose is a collective
  of seasoned musicians with a shared love for the music that moves both bo
 dy and spirit. https://linktr.ee/soulpurposehudsonvalley\n\nWhat? is a fun
 k fusion sextet hailing based in the Hudson Valley. Drawing influence from
  the serene landscape of the Catskills that inspired the likes of The Band
  and Donald Fagen\, What? bridges the gap between funk\, jazz fusion\, and
  improvisational jam. Compared to the likes of Stevie Wonder\, Steely Dan\
 , Vulfpeck\, Phish and Snarky Puppy\, What?’s eclectic taste in music la
 ys the framework for a night that spans multiple genres. https://www.what.
 band/ \n\nTickets $25 advance\, $30 door\n\nALL SALES ARE FINAL\n\nDINNER
  RESERVATIONS REQUIRE 1 ENTREE PER PERSON\n\nSHOW ONLY TICKETS ADMITTED 15
  MINUTES BEFORE SHOWTIME\n\nADVANCE SALE PRICE ENDS 1 HOUR BEFORE DOORS\n\
 nhttps://www.youtube.com/watch?v=BKlFIB0-GJE&amp\;t=10s\n\n&nbsp\;\n\n
ATTACH;FMTTYPE=image/jpeg:https://townecrier.com/wp-content/uploads/2026/0
 1/Soul-Purpose-What-comp-web.jpg
CATEGORIES:Main Stage
END:VEVENT
BEGIN:VTIMEZONE
TZID:America/New_York
X-LIC-LOCATION:America/New_York
BEGIN:STANDARD
DTSTART:20251102T010000
TZOFFSETFROM:-0400
TZOFFSETTO:-0500
TZNAME:EST
END:STANDARD
END:VTIMEZONE
END:VCALENDAR