BEGIN:VCALENDAR
VERSION:2.0
PRODID:-//wp-events-plugin.com//7.2.1//EN
TZID:America/New_York
X-WR-TIMEZONE:America/New_York
BEGIN:VEVENT
UID:531@townecrier.com
DTSTART;TZID=America/New_York:20260124T200000
DTEND;TZID=America/New_York:20260124T200000
DTSTAMP:20260108T184442Z
URL:https://townecrier.com/events/slam-allens-soul-blues-revue/
SUMMARY:Slam Allen's Soul & Blues Revue\; special guest Elly Wininger
DESCRIPTION:\nThe internationally renowned Slam Allen is a messenger of lov
 e. This dynamic entertainer uses the genres of blues\, soul\, R&amp\;B and
  a touch of rock and roll to deliver powerful\, soul-stirring performances
 . Slam captures you with a voice that echoes Otis Redding\, a guitar that 
 immerses you in B. B. King and stage energy reminiscent of James Brown\, a
 ll while captivating you with his own original music. An inductee into New
  York's Blues Hall Of Fame\, Slam developed his stage craft and artistry w
 ith nine years on the road as James Cotton's lead guitarist\, vocalist and
  songwriter\, and he’s been raising the bar every year since then!\n\nEl
 ly Wininger is a New York Blues Hall of Fame inductee\, acoustic and slid
 e guitarist\, and songwriter known for her roots in the Greenwich Village 
 Folk and Blues scene. She played the opening night at the legendary CBGB
 ’s. She was inducted into the New York Blues Hall of Fame in 2014\, and 
 her album The Blues Never End (2021) spent over four months in the top s
 ix albums on the Roots Music Report’s Acoustic Blues chart\, with severa
 l weeks at Number One. Following a win in the Hudson Valley Blues Society
  Solo/Duo Challenge she was a semifinalist in the 2023 International Blues
  Competition. Beyond  performing\, Wininger has produced award-winning m
 usic documentaries for public radio and hosted radio shows. She is the cre
 ator of the “Our Song” program which empowers people of all ages and a
 bilities to write their own songs.\nhttps://ellywininger.com/\n\n\n\n\n$25
  advance/ $30 at the door\nALL SALES ARE FINAL\nDINNER RESERVATIONS REQUIR
 E 1 ENTREE PER PERSON\nSHOW ONLY TICKETS ADMITTED 15 MINUTES BEFORE SHOWTI
 ME\nADVANCE SALE PRICE ENDS 1 HOUR BEFORE DOORS\n&nbsp\;\n
ATTACH;FMTTYPE=image/jpeg:https://townecrier.com/wp-content/uploads/2024/0
 9/Slam-Allen-web.jpg
CATEGORIES:Main Stage
END:VEVENT
BEGIN:VTIMEZONE
TZID:America/New_York
X-LIC-LOCATION:America/New_York
BEGIN:STANDARD
DTSTART:20251102T010000
TZOFFSETFROM:-0400
TZOFFSETTO:-0500
TZNAME:EST
END:STANDARD
END:VTIMEZONE
END:VCALENDAR