BEGIN:VCALENDAR
VERSION:2.0
PRODID:-//wp-events-plugin.com//7.2.1//EN
TZID:America/New_York
X-WR-TIMEZONE:America/New_York
BEGIN:VEVENT
UID:173@townecrier.com
DTSTART;TZID=America/New_York:20250713T190000
DTEND;TZID=America/New_York:20250713T190000
DTSTAMP:20250712T215102Z
URL:https://townecrier.com/events/sirsy-guest-annalyse-and-ryan/
SUMMARY:SIRSY\; guest Annalyse and Ryan
DESCRIPTION:SIRSY is a rock and soul duo with lots of pop sensibility and j
 ust the right amount of sass. The Boston Globe sums it up\, “Little band
 . Big Sound.” Although the only thing “little” about Sirsy is that t
 here’s just two of them. The rest is bigger than a T-Rex. Close your eye
 s and listen to the power and heart in their music and you’ll swear ther
 e’s more than two people on stage. It’s crank up the volume\, sing alo
 ng at the top of your lungs music — even when the ballads kick in. Plus\
 , “Their clever\, smart songs have more hooks than a tacklebox.” (Time
 s Union).\n\nSIRSY is fronted by powerhouse vocalist Melanie (Mel) Krahmer
 \, who is described as “one of the most powerful &amp\; flexible voices 
 you’ll ever hear.” (Times Union). Aftertaste Magazine said\, “Bursti
 ng and belting out emotion and substance\, she can be the queen of ‘in t
 he groove’ rocking or be simple and delicate.” Still\, there is more t
 o Mel than her soul-inspired vocals: she also plays a full drum kit while 
 standing up (she’s been featured in Modern Drummer Magazine and is offic
 ially endorsed by Paiste Cymbals and Vater Percussion). At their live show
 s\, Mel also plays bass parts with a drum stick (on a keyboard mounted on 
 her drums). She even throws in an occasional flute solo\, too.\n\nGuitaris
 t Rich Libutti plays a well-loved and road-worn Rickenbacker through a ped
 al board full of vintage effects. “The guitar player is flawless and raw
 . Clean enough to be enjoyed\, and just edgy enough to make you grin.” (
 SXSW Music Blog\, Austin TX). Live\, Rich also plays bass on a keyboard wi
 th his feet.\n\nOfficial website  – Facebook  – Youtube – Twitter 
 – Instagram\n\nAnnalyse &amp\; Ryan are an Americana duo based in Beacon
 \, NY. Their sound and songs take listeners on a soulful\, rootsy journey.
  The duo’s strong harmonies melt together seamlessly with an undeniable 
 edge. The duo’s 2023 EP\, Trilogy\, available on all major streaming pla
 tforms\, can be described as uplifting\, epic\, and heartfelt. Their singl
 e “Tough Luck” from this project was awarded Silver in Adult Contempor
 ary in the 2024 Songwriter’s Association of Washington Mid-Atlantic Song
  Contest. The project was produced by Justin Guip (Levon Helm\, Larry Camp
 bell &amp\; Teresa Williams\, Hot Tuna) at Milan Hill Studio.\n\nThe duo
 ’s music has led them across the US and Europe\, and their new tribute s
 how Decades in Duet headlines regularly on the high seas. In 2018\, Annaly
 se &amp\; Ryan were among a handpicked few regularly-featured artists at t
 he Grand Ole Opry’s Times Square venue\, Opry City Stage. Their original
  songs have been featured on CBS\, the BBC\, Amazon Prime\, and more. The 
 two have also co-written several songs for Mattel’s American Girl show W
 ellie Wishers as well as the most recent reboot of Thomas &amp\; Friends t
 hrough Imaginigami Productions.\n\nTickets $25 advance\, $30 door\n\nALL S
 ALES ARE FINAL\n\nDINNER RESERVATIONS REQUIRE 1 ENTREE PER PERSON\n\nSHOW 
 ONLY TICKETS ADMITTED 15 MINUTES BEFORE SHOWTIME\n\nADVANCE SALE PRICE END
 S 1 HOUR BEFORE DOORS
ATTACH;FMTTYPE=image/jpeg:https://townecrier.com/wp-content/uploads/2025/0
 1/Sirsy-Annalyse-and-Ryan-comp-web.jpg
CATEGORIES:Main Stage
END:VEVENT
BEGIN:VTIMEZONE
TZID:America/New_York
X-LIC-LOCATION:America/New_York
BEGIN:DAYLIGHT
DTSTART:20250309T030000
TZOFFSETFROM:-0500
TZOFFSETTO:-0400
TZNAME:EDT
END:DAYLIGHT
END:VTIMEZONE
END:VCALENDAR