BEGIN:VCALENDAR
VERSION:2.0
PRODID:-//wp-events-plugin.com//7.2.1//EN
TZID:America/New_York
X-WR-TIMEZONE:America/New_York
BEGIN:VEVENT
UID:694@townecrier.com
DTSTART;TZID=America/New_York:20260515T183000
DTEND;TZID=America/New_York:20260515T183000
DTSTAMP:20260417T192830Z
URL:https://townecrier.com/events/rik-mercaldi-salon-stage-6/
SUMMARY:Rik Mercaldi – Salon Stage
DESCRIPTION:\n\nComplimentary with Dinner\nOur Salon Stage provides Complim
 entary Live Music while you dine. We feature amazing local Hudson Valley a
 nd touring artists nightly. Join us for dinner and you may discover one of
  your new favorite artists. As always\, we prioritize seating for guests w
 ho are joining us for dinner. We also provide a great Tap Room for enjoyin
 g a cocktail or beer while listening to the live music on our Salon Stage.
 \n\n\nRik Mercaldi is an accomplished musician with a diverse musical care
 er spanning over three decades in the vibrant music scenes of New York Cit
 y and the surrounding areas. As a guitarist\, singer/songwriter and multi-
 instrumentalist he’s performed in clubs and festivals around the country
  and played on numerous recordings including Genya Raven’s Undercover al
 bum\, on which he contributed guitar\, lap steel and mandolin.\n\nAs co-fo
 under/frontman of The Subterraneans he helped craft their unique blend of 
 rock and post-punk influences that’s carried them from the CBGB’s stag
 e to the present. They’re currently working on their fourth album slated
  for release in 2025. He’s also an integral member of the improvisationa
 l band Cosmokaze and plays guitar with popular Hudson Valley based band\, 
 and Towne Crier Cafe favorites\, Last Minute Soulmates.\n\nRik continues t
 o evolve as a musician\, pushing the boundaries of his craft and seeking n
 ew musical horizons.\n\n\nReservations suggested\; call 845-855-1300 to bo
 ok your table.\n\n\n
ATTACH;FMTTYPE=image/jpeg:https://townecrier.com/wp-content/uploads/2024/0
 9/Rik-Mercaldi-crop-web.jpg
CATEGORIES:Salon Stage
END:VEVENT
BEGIN:VTIMEZONE
TZID:America/New_York
X-LIC-LOCATION:America/New_York
BEGIN:DAYLIGHT
DTSTART:20260308T030000
TZOFFSETFROM:-0500
TZOFFSETTO:-0400
TZNAME:EDT
END:DAYLIGHT
END:VTIMEZONE
END:VCALENDAR