BEGIN:VCALENDAR
VERSION:2.0
PRODID:-//wp-events-plugin.com//7.2.1//EN
TZID:America/New_York
X-WR-TIMEZONE:America/New_York
BEGIN:VEVENT
UID:510@townecrier.com
DTSTART;TZID=America/New_York:20260430T193000
DTEND;TZID=America/New_York:20260430T193000
DTSTAMP:20260418T222937Z
URL:https://townecrier.com/events/richard-shindell-special-guest-jess-klei
 n/
SUMMARY:Richard Shindell\; special guest Jess Klein
DESCRIPTION:Richard Shindell lives as both an immigrant and emigrant\, cros
 sing thresholds\, that informs his illumination of the human experience th
 rough narrative song. Shindell has inhabited a Zen Buddhist monastery and 
 busked in the streets of Paris.\n\nOriginally from New York\, now living i
 n Buenos Aires\, Argentina\, Shindell is a writer whose songs paint pictur
 es\, tell stories\, juxtapose ideas and images\, inhabit characters\, vivi
 dly evoking entire worlds along the way and expanding our sense of just wh
 at it is a song may be. Meticulously recorded over three years in New York
  and Buenos Aires\, his most recent release\, “Careless\,” offered an 
 ambitious\, luxurious\, full- length statement. Shindell immersed himself 
 in the studio\, allowing the time and latitude to explore\, experiment\, t
 ake risks—to play—as each of these eleven songs was given form and sub
 stance.\n\nInnovative\, original and occasionally spiritual\, Shindell’s
  songs weave tales that interchangeably champion the downtrodden\, exalt t
 he disaffected or wax empathetic to those lost to society’s fringes. Fro
 m lighthearted ballads and adulterous love songs\, to dirges and diatribes
  that skillfully skewer politics\, prejudice\, war and religion\, to the c
 omic point-of-view of a cow stuck in a barbed wire fence\, he has a unique
  ability to morph into the soul of the many and varied personalities he ca
 sts as narrators in certain songs—veritable novellas framed in haunting 
 acoustic melodies.\n\nJess Klein came to this world to pull firebrand powe
 r and childlike joy from our darkest shadows. Her acoustic-driven\, hook-l
 aden story songs revel in the polychrome of human experience - joy\, rage\
 , sensuality and resilience. The New York Times calls her “A songwriter 
 with a voice of unblinking tenacity.” Jess has toured the globe performi
 ng in pin-drop listening rooms\, cozy theaters and at raucous festivals in
  front of tens of thousands of fans. Her emotive vocals and poignant story
 telling invite her fans on a journey through themes of love\, loss\, and r
 esilience.\n\nTickets $35 advance\, $40 door\n\nALL SALES ARE FINAL\n\nDIN
 NER RESERVATIONS REQUIRE 1 ENTREE PER PERSON\n\nSHOW ONLY TICKETS ADMITTED
  15 MINUTES BEFORE SHOWTIME\n\nADVANCE SALE PRICE ENDS 1 HOUR BEFORE DOORS
 \n\nhttps://www.youtube.com/watch?v=XZD36CEVHUQ&amp\;t=22s
ATTACH;FMTTYPE=image/jpeg:https://townecrier.com/wp-content/uploads/2025/1
 1/Richard-Shindell-Jess-Klein-comp-web.jpg
CATEGORIES:Main Stage
END:VEVENT
BEGIN:VTIMEZONE
TZID:America/New_York
X-LIC-LOCATION:America/New_York
BEGIN:DAYLIGHT
DTSTART:20260308T030000
TZOFFSETFROM:-0500
TZOFFSETTO:-0400
TZNAME:EDT
END:DAYLIGHT
END:VTIMEZONE
END:VCALENDAR