BEGIN:VCALENDAR
VERSION:2.0
PRODID:-//wp-events-plugin.com//7.2.1//EN
TZID:America/New_York
X-WR-TIMEZONE:America/New_York
BEGIN:VEVENT
UID:362@townecrier.com
DTSTART;TZID=America/New_York:20250725T193000
DTEND;TZID=America/New_York:20250725T193000
DTSTAMP:20250625T214518Z
URL:https://townecrier.com/events/paul-byrne-special-guest-debbie-lan/
SUMMARY:Paul Byrne & The Bleeders\; special guest Debbie Lan
DESCRIPTION:Paul Byrne is an original Americana singer/songwriter. Featured
  as VH1.com Artist of the Week for the song “Mars\,” Paul has been the
  supporting act for Hootie &amp\; The Blowfish\, Nils Lofgrin (E Street Ba
 nd)\, Kenny Wayne Shepard\, Johnny Lang\, The Tubes\, Jeffrey Gaines\, Wil
 lie Nile and Glenn Tilbrook (Squeeze)\, to name a few. Paul has been inter
 viewed and played on WFUV\, WPDH\, WVKR\, WKZE\, and many other college ra
 dio stations.\n\nCheck out Paul Byrne &amp\; The Bleeders out on Spotify.\
 n\nDebbie Lan is a song leader\, choral director\, musician\, songwriter a
 nd arranger.\n\nNo cover\; $20 minimum per person for food &amp\; drink.\n
 \nReservations suggested\; call (845) 855-1300 to book your table.
ATTACH;FMTTYPE=image/jpeg:https://townecrier.com/wp-content/uploads/2025/0
 6/Paul-Byrne-Debbie-Lan-comp-web.jpg
CATEGORIES:Main Stage
END:VEVENT
BEGIN:VTIMEZONE
TZID:America/New_York
X-LIC-LOCATION:America/New_York
BEGIN:DAYLIGHT
DTSTART:20250309T030000
TZOFFSETFROM:-0500
TZOFFSETTO:-0400
TZNAME:EDT
END:DAYLIGHT
END:VTIMEZONE
END:VCALENDAR