BEGIN:VCALENDAR
VERSION:2.0
PRODID:-//wp-events-plugin.com//7.2.1//EN
TZID:America/New_York
X-WR-TIMEZONE:America/New_York
BEGIN:VEVENT
UID:345@townecrier.com
DTSTART;TZID=America/New_York:20251031T203000
DTEND;TZID=America/New_York:20251031T203000
DTSTAMP:20251030T190420Z
URL:https://townecrier.com/events/le-vent-du-nord-2/
SUMMARY:Le Vent du Nord
DESCRIPTION:The award winning and highly acclaimed band Le Vent du Nord is 
 a leading force in Quebec’s progressive francophone folk movement.  The
  group’s vast repertoire draws from both traditional sources and origina
 l compositions\, while enhancing it’s hard-driving soulful music (rooted
  in the Celtic diaspora) with a broad range of global influences.\n\nSince
  its inception in August 2002\, Le Vent du Nord has enjoyed meteoric succe
 ss\, performing well over 1\,800 concerts over 4 continents and racking up
  several prestigious awards\, including a Grand Prix du Disque Charles Cro
 s\, two Junos (Canada’s Grammys)\, a Félix at ADISQ\, a Canadian Folk M
 usic Award\, and “Artist of the Year” at the North American Folk Allia
 nce Annual Gala.\n\nThe group exhibits great finesse and flexibility\, app
 earing regularly on Canadian\, American\, French\, and UK television and r
 adio\, and participating in a wide variety of special musical projects. No
 t content with standard approaches to tradition\, Le Vent du Nord has also
  created a symphonic concert that\, according to Voir Montreal\, “puts a
 ll traditional folk naysayers to shame.”\n\nOn stage these friends creat
 e intense\, joyful and dynamic live performances that expand the bounds of
  tradition in striking global directions. This is the modern sound of trad
 ition\, a music of the here and now.\n\nTickets $40 advance\, $45 door\n\n
 ALL SALES ARE FINAL\n\nDINNER RESERVATIONS REQUIRE 1 ENTREE PER PERSON\n\n
 SHOW ONLY TICKETS ADMITTED 15 MINUTES BEFORE SHOWTIME\n\nADVANCE SALE PRIC
 E ENDS 1 HOUR BEFORE DOORS\n\nhttps://www.youtube.com/watch?v=GSZc0rPf1TM&
 amp\;t=1s
ATTACH;FMTTYPE=image/jpeg:https://townecrier.com/wp-content/uploads/2022/0
 8/Le-Vent-du-Nord-new.jpg
CATEGORIES:Main Stage
END:VEVENT
BEGIN:VTIMEZONE
TZID:America/New_York
X-LIC-LOCATION:America/New_York
BEGIN:DAYLIGHT
DTSTART:20250309T030000
TZOFFSETFROM:-0500
TZOFFSETTO:-0400
TZNAME:EDT
END:DAYLIGHT
END:VTIMEZONE
END:VCALENDAR