BEGIN:VCALENDAR
VERSION:2.0
PRODID:-//wp-events-plugin.com//7.2.1//EN
TZID:America/New_York
X-WR-TIMEZONE:America/New_York
BEGIN:VEVENT
UID:688@townecrier.com
DTSTART;TZID=America/New_York:20260529T183000
DTEND;TZID=America/New_York:20260529T183000
DTSTAMP:20260416T154422Z
URL:https://townecrier.com/events/lauren-magarelli-jonno-hull-salon-stage-
 3/
SUMMARY:Lauren Magarelli & Jonno Hull  – Salon Stage
DESCRIPTION:Complimentary with Dinner\nOur Salon Stage provides Complimenta
 ry Live Music while you dine. We feature amazing local Hudson Valley and t
 ouring artists nightly. You may discover one of your new favorite artists.
  As always\, we prioritize seating for guests who are joining us for dinne
 r. We also provide a great Tap Room for enjoying a cocktail or beer while 
 listening to the live music on our Salon Stage.\n\nLauren Magarelli began 
 her singing career chanting mantras on the Harmonium in New York City. She
  has a mantra album called Seeds on Spotify. She is also the owner of BeBh
 akti Yoga Center in Beacon and performs locally and throughout th Hudson V
 alley. Lauren will be accompanied by Jonno Hull who has played guitar most
  of his life and teaches English in NYC.\n\nReservations suggested\; call 
 845-855-1300 to book your table.
ATTACH;FMTTYPE=image/jpeg:https://townecrier.com/wp-content/uploads/2025/0
 5/Lauren-Magarelli.jpg
CATEGORIES:Salon Stage
END:VEVENT
BEGIN:VTIMEZONE
TZID:America/New_York
X-LIC-LOCATION:America/New_York
BEGIN:DAYLIGHT
DTSTART:20260308T030000
TZOFFSETFROM:-0500
TZOFFSETTO:-0400
TZNAME:EDT
END:DAYLIGHT
END:VTIMEZONE
END:VCALENDAR