BEGIN:VCALENDAR
VERSION:2.0
PRODID:-//wp-events-plugin.com//7.2.1//EN
TZID:America/New_York
X-WR-TIMEZONE:America/New_York
BEGIN:VEVENT
UID:695@townecrier.com
DTSTART;TZID=America/New_York:20260516T180000
DTEND;TZID=America/New_York:20260516T180000
DTSTAMP:20260417T192920Z
URL:https://townecrier.com/events/julie-corbalis-salon-stage-2/
SUMMARY:Julie Corbalis – Salon Stage
DESCRIPTION:\n\nComplimentary with Dinner\nOur Salon Stage provides Complim
 entary Live Music while you dine. We feature amazing local Hudson Valley a
 nd touring artists. Join us for dinner and you may discover one of your ne
 w favorite artists. As always\, we prioritize seating for guests who are j
 oining us for dinner. We also provide a great Tap Room for enjoying a cock
 tail or beer while listening to the live music on our Salon Stage.\n\n\nJu
 lie Corbalis is a Hudson Valley based singer-songwriter who has been perfo
 rming her own music as well as classic covers since 1996. Corbalis has rec
 orded six albums to date: two with her band Jules &amp\; The Family (Jules
  &amp\; The Family\, 2005\; Border Radio\, 2007)\, 3 as a solo performer (
 “Old Flames And New Names\,” 2008\; “Songs In A Bottle\,” 2013\, a
 nd the 2016 release “What’s Up With This Heart?”) and one as a colla
 borative effort with fellow local musicians (Backwoods Jupiter Presents Bo
 b Dylan’s Desire\, 2011). Her latest single\, “Drinking Buddy\,” was
  released in May 2020. Julie has toured throughout the Northeast US and On
 tario\, Canada\, as well as performed throughout Europe and Japan. In addi
 tion to being a full time musician\, “Ms. Corbalis” has also taught mi
 ddle school social studies for 23 years.\n\nPhoto (c) Gary Schreiner\n\n\n
 Reservations suggested\; call 845-855-1300 to book your table.\n\n\n
ATTACH;FMTTYPE=image/jpeg:https://townecrier.com/wp-content/uploads/2022/1
 1/Julie-Corbalis.jpg
CATEGORIES:Salon Stage
END:VEVENT
BEGIN:VTIMEZONE
TZID:America/New_York
X-LIC-LOCATION:America/New_York
BEGIN:DAYLIGHT
DTSTART:20260308T030000
TZOFFSETFROM:-0500
TZOFFSETTO:-0400
TZNAME:EDT
END:DAYLIGHT
END:VTIMEZONE
END:VCALENDAR