BEGIN:VCALENDAR
VERSION:2.0
PRODID:-//wp-events-plugin.com//7.2.1//EN
TZID:America/New_York
X-WR-TIMEZONE:America/New_York
BEGIN:VEVENT
UID:693@townecrier.com
DTSTART;TZID=America/New_York:20260510T183000
DTEND;TZID=America/New_York:20260510T183000
DTSTAMP:20260417T182429Z
URL:https://townecrier.com/events/judy-kass-bill-kelly-salon-stage/
SUMMARY:Judy Kass & Bill Kelly – Salon Stage
DESCRIPTION:Complimentary with Dinner\nOur Salon Stage provides Complimenta
 ry Live Music while you dine. We feature amazing local Hudson Valley and t
 ouring artists nightly. Join us for dinner and you may discover one of you
 r new favorite artists. As always\, we prioritize seating for guests who a
 re joining us for dinner. We also provide a great Tap Room for enjoying a 
 cocktail or beer while listening to the live music on our Salon Stage.\n\n
 Judy Kass is an award-winning songwriter based in the NY Hudson Valley. Sh
 e draws in her audience with soulful vocals\, no-nonsense lyrical storytel
 ling and genre-bending exploration of guitar and piano. Growing up in a fa
 mily of musicians\, Judy began playing at an early age moving from her cla
 ssical piano training to accompanying the songs she soon started to write 
 on both keyboard and guitar. Judy’s 2014 debut album\, “Better Things\
 ,” and her 2016 CD\, “Beyond the Ash and Steel\,” both received nota
 ble airplay\, appearing on the Folk DJ List of Top Albums for those years.
  Her latest solo album release\, “New Skin\,” debuted at #4 on the Fol
 k Alliance Top Albums Chart for July 2025. judykass.com\n\nBill Kelly is a
  poet\, singer-songwriter\, multi-instrumentalist\, and producer. His song
 s have been used in major motion pictures and television. He has released 
 four albums of original music and other records with Folkfoot and Brother 
 Flower He has just released “Good\, Truth\, and Beauty\,” with produce
 r Lincoln Schleifer and featuring Larry Campbell\, John Leventhal\, John G
 inty\, Clifford Carter and others.\n\nReservations suggested\; call 845-85
 5-1300 to book your table.
ATTACH;FMTTYPE=image/jpeg:https://townecrier.com/wp-content/uploads/2026/0
 4/Judy-Kass-Bill-Kelly-web.jpg
CATEGORIES:Salon Stage
END:VEVENT
BEGIN:VTIMEZONE
TZID:America/New_York
X-LIC-LOCATION:America/New_York
BEGIN:DAYLIGHT
DTSTART:20260308T030000
TZOFFSETFROM:-0500
TZOFFSETTO:-0400
TZNAME:EDT
END:DAYLIGHT
END:VTIMEZONE
END:VCALENDAR