BEGIN:VCALENDAR
VERSION:2.0
PRODID:-//wp-events-plugin.com//7.2.1//EN
TZID:America/New_York
X-WR-TIMEZONE:America/New_York
BEGIN:VEVENT
UID:434@townecrier.com
DTSTART;TZID=America/New_York:20251019T193000
DTEND;TZID=America/New_York:20251019T193000
DTSTAMP:20251017T003227Z
URL:https://townecrier.com/events/jeff-daniels/
SUMMARY:Jeff Daniels
DESCRIPTION:Jeff Daniels is one of the most respected and in-demand actors 
 of our time\, but he’s also a prolific singer-songwriter and guitarist w
 ho will grace our Main Stage for a special Sunday evening show!\n\nJeff ha
 s appeared in more than 70 films\, numerous television shows and theatrica
 l productions\, including a year-long run on Broadway as Atticus Finch in 
 “To Kill A Mockingbird.”\n\n“Much as I love acting\, however\, I don
 ’t do it every day. The only thing I do every day\, the only thing I wan
 t to do\, the only thing I have to do\, is play my acoustic guitar\,” Je
 ff says. “Back in ’76\, I bought a Guild D-40\, tossed it into the bac
 kseat of a beat up Buick and chased a dream. I had no idea I was bringing 
 along my best friend. The one I would need\, the one I would turn to\, the
  one I would rely on. And now\, decades later\, the one who knows what I
 ’m all about.”\n\nVisit www.jeffdaniels.com to hear song samples and l
 earn more about this versatile artist.\n\nTickets $70 advance\, $75 door\n
 \nALL SALES ARE FINAL\n\nDINNER RESERVATIONS REQUIRE 1 ENTREE PER PERSON\n
 \nSHOW ONLY TICKETS ADMITTED 15 MINUTES BEFORE SHOWTIME\n\nADVANCE SALE PR
 ICE ENDS 1 HOUR BEFORE DOORS
ATTACH;FMTTYPE=image/jpeg:https://townecrier.com/wp-content/uploads/2025/0
 8/Jeff-Daniels-web1.jpg
CATEGORIES:Main Stage
END:VEVENT
BEGIN:VTIMEZONE
TZID:America/New_York
X-LIC-LOCATION:America/New_York
BEGIN:DAYLIGHT
DTSTART:20250309T030000
TZOFFSETFROM:-0500
TZOFFSETTO:-0400
TZNAME:EDT
END:DAYLIGHT
END:VTIMEZONE
END:VCALENDAR