BEGIN:VCALENDAR
VERSION:2.0
PRODID:-//wp-events-plugin.com//7.2.1//EN
TZID:America/New_York
X-WR-TIMEZONE:America/New_York
BEGIN:VEVENT
UID:169@townecrier.com
DTSTART;TZID=America/New_York:20250214T200000
DTEND;TZID=America/New_York:20250214T200000
DTSTAMP:20250213T180640Z
URL:https://townecrier.com/events/home-again-the-carole-king-tribute/
SUMMARY:HOME AGAIN: The Carole King Tribute
DESCRIPTION:HOME AGAIN is a tribute to the multi-award winning singer-songw
 riter Carole King.\n\nDeb De Lucca\, joined by her band of seasoned musici
 ans\, takes the audience on a journey through Carole's impressive &amp\; e
 xpansive repertoire. Carole King made her mark with “Tapestry” in 1971
  but was already a well established songwriter for over a decade. She wrot
 e more than two dozen chart hits\, many of which have become standards\, f
 or numerous artists such as: The Shirelles\, The Chiffons\, The Drifters\,
  The Carpenters\, The Monkees\, Herman's Hermits\, Bobby Vee &amp\; many m
 ore!\n\n“I am so happy to be paying a tribute to one of my first &amp\; 
 most cherished musical memories\, Carole King!\,” says Deb. “‘Tapest
 ry’ was a constant on our turntable … thanks Mom!! I have always gone 
 back to Carole’s repertoire over &amp\; over\, year after year as the so
 ngs never lose their impact nor do they ever age!”\n\nHOME AGAIN is a tr
 ue celebration of Carole King's anthology and captures the "Beautiful" spi
 rit of a unique time in music history!\n\nTickets $30 advance\, $35 door\n
 \n&nbsp\;\n\nALL SALES ARE FINAL\n\nDINNER RESERVATIONS REQUIRE 1 ENTREE P
 ER PERSON\n\nSHOW ONLY TICKETS ADMITTED 15 MINUTES BEFORE SHOWTIME\n\nADVA
 NCE SALE PRICE ENDS 1 HOUR BEFORE DOORS\n\n&nbsp\;\n\nhttps://youtu.be/ag8
 GNapScWs
ATTACH;FMTTYPE=image/jpeg:https://townecrier.com/wp-content/uploads/2025/0
 1/Home-Again-Carole-King-full-band-web.jpg
CATEGORIES:Main Stage
END:VEVENT
BEGIN:VTIMEZONE
TZID:America/New_York
X-LIC-LOCATION:America/New_York
BEGIN:STANDARD
DTSTART:20241103T010000
TZOFFSETFROM:-0400
TZOFFSETTO:-0500
TZNAME:EST
END:STANDARD
END:VTIMEZONE
END:VCALENDAR