BEGIN:VCALENDAR
VERSION:2.0
PRODID:-//wp-events-plugin.com//7.2.1//EN
TZID:America/New_York
X-WR-TIMEZONE:America/New_York
BEGIN:VEVENT
UID:164@townecrier.com
DTSTART;TZID=America/New_York:20250517T203000
DTEND;TZID=America/New_York:20250517T203000
DTSTAMP:20250517T155239Z
URL:https://townecrier.com/events/here-comes-the-sun-celebrating-the-music
 -of-the-beatles/
SUMMARY:Here Comes the Sun: Celebrating the Music of The Beatles
DESCRIPTION:Here Comes the Sun is an extraordinary musical celebration of a
  decade of Beatles Music. Not an impersonation act\, this five-person band
  of multi-instrumentalist/vocalists from Broadway\, Lincoln Center\, and t
 he Trans-SiberianOrchestra create a fresh\, vibrant\, and one-of-a-kind co
 ncert experience that celebrates ten years of music from the Fab 4.\n\nAs 
 the popularity of The Beatles reached epic proportions\, they took musical
  risks that led to a catalog of music like no other band has ever generate
 d. Here Comes the Sun re-creates this deeply-layered and multi-textured cr
 eative period using the combined efforts of five players switching between
  various instruments in a modern rock-and-roll experience!\n\nTickets $30 
 advance\, $35 door\n\nALL SALES ARE FINAL\n\nDINNER RESERVATIONS REQUIRE 1
  ENTREE PER PERSON\n\nSHOW ONLY TICKETS ADMITTED 15 MINUTES BEFORE SHOWTIM
 E\n\nADVANCE SALE PRICE ENDS 1 HOUR BEFORE DOORS
ATTACH;FMTTYPE=image/jpeg:https://townecrier.com/wp-content/uploads/2023/1
 2/HERE-COMES-THE-SUN-web.jpg
CATEGORIES:Main Stage
END:VEVENT
BEGIN:VTIMEZONE
TZID:America/New_York
X-LIC-LOCATION:America/New_York
BEGIN:DAYLIGHT
DTSTART:20250309T030000
TZOFFSETFROM:-0500
TZOFFSETTO:-0400
TZNAME:EDT
END:DAYLIGHT
END:VTIMEZONE
END:VCALENDAR