BEGIN:VCALENDAR
VERSION:2.0
PRODID:-//wp-events-plugin.com//7.2.1//EN
TZID:America/New_York
X-WR-TIMEZONE:America/New_York
BEGIN:VEVENT
UID:213@townecrier.com
DTSTART;TZID=America/New_York:20250306T183000
DTEND;TZID=America/New_York:20250306T183000
DTSTAMP:20250228T212419Z
URL:https://townecrier.com/events/every-thursday-open-mic-night-18/
SUMMARY:CANCELLED THIS WEEK: Open Mic Night
DESCRIPTION:Due to the high volume of ticket sales for the Cherish the Ladi
 es 40th Anniversary Concert this Thursday\, March 6\, we are cancelling th
 e Open Mic Night this week. We'll be back on March 13!
ATTACH;FMTTYPE=image/jpeg:https://townecrier.com/wp-content/uploads/2022/0
 4/open-mic-night.jpg
CATEGORIES:Salon Stage
END:VEVENT
BEGIN:VTIMEZONE
TZID:America/New_York
X-LIC-LOCATION:America/New_York
BEGIN:STANDARD
DTSTART:20241103T010000
TZOFFSETFROM:-0400
TZOFFSETTO:-0500
TZNAME:EST
END:STANDARD
END:VTIMEZONE
END:VCALENDAR