BEGIN:VCALENDAR
VERSION:2.0
PRODID:-//wp-events-plugin.com//7.2.1//EN
TZID:America/New_York
X-WR-TIMEZONE:America/New_York
BEGIN:VEVENT
UID:632@townecrier.com
DTSTART;TZID=America/New_York:20260605T203000
DTEND;TZID=America/New_York:20260605T203000
DTSTAMP:20260310T103822Z
URL:https://townecrier.com/events/eileen-ivers-the-brigideens/
SUMMARY:Eileen Ivers & The Brigideens
DESCRIPTION:The Brigideens\, the new acoustic powerhouse fiery female band\
 , formed and led by Grammy-awarded\, Emmy-nominated\, 9-time All-Ireland F
 iddle Champion\, Eileen Ivers\, features critically acclaimed musicians an
 d vocalists from the Celtic and Americana traditions.\n\nThe group highlig
 hts the power and beauty of acoustic roots music - featuring “soaring vo
 cals and equally stellar playing\, a gal power band you don’t want to mi
 ss ... the crowd went wild for them!” as Presenter\, Carol Noonan of Sto
 ne Mountain Arts Center exclaimed.\n\nWith The Brigideens\, Ivers continue
 s to produce her signature musical sound that led the L.A. Times to procla
 im\, “Ivers’ presentation was music with the kind of life and spirit t
 hat come together when talented artists from different backgrounds find th
 e linkages that connect all forms of music.” Native New Yorkers Caitlin 
 Maloney is on lead vocals and Hilary Hawke on 5-string banjo\, upright bas
 s\, clarinet\, spoons and vocals. Anna Colliton\, a Chicago native\, is a 
 master of the Irish bodhran and adds cajon/percussion. From Maryland\, gui
 tarist and vocalist\, Colin Forhan\, also plays tenor banjo and concertina
 . Colin performs double duty as a member of Eileen Ivers and Universal Roo
 ts.\n\nThe Brigideens’ name is derived from Brigid - patron saint of hea
 lers\, scholars\, poets\, and keeper of the perpetual flame.\n\nhttps://ww
 w.eileenivers.com/brigideens\n\nTickets $40 advance\, $45 door\n\nALL SALE
 S ARE FINAL\n\nDINNER RESERVATIONS REQUIRE 1 ENTREE PER PERSON\n\nSHOW ONL
 Y TICKETS ADMITTED 15 MINUTES BEFORE SHOWTIME\n\nADVANCE SALE PRICE ENDS 1
  HOUR BEFORE DOORS\n\nhttps://www.youtube.com/watch?v=2v5YoxafZI0
ATTACH;FMTTYPE=image/jpeg:https://townecrier.com/wp-content/uploads/2026/0
 3/The-Brigadeens-outdoors-web.jpg
CATEGORIES:Main Stage
END:VEVENT
BEGIN:VTIMEZONE
TZID:America/New_York
X-LIC-LOCATION:America/New_York
BEGIN:DAYLIGHT
DTSTART:20260308T030000
TZOFFSETFROM:-0500
TZOFFSETTO:-0400
TZNAME:EDT
END:DAYLIGHT
END:VTIMEZONE
END:VCALENDAR