BEGIN:VCALENDAR
VERSION:2.0
PRODID:-//wp-events-plugin.com//7.2.1//EN
TZID:America/New_York
X-WR-TIMEZONE:America/New_York
BEGIN:VEVENT
UID:251@townecrier.com
DTSTART;TZID=America/New_York:20250420T113000
DTEND;TZID=America/New_York:20250420T113000
DTSTAMP:20250321T134123Z
URL:https://townecrier.com/events/easter-brunch-big-joe-fitz-acoustic-styl
 e-with-mark-dziuba-and-robert-bard-salon-stage/
SUMMARY:Easter Brunch: Big Joe Fitz\, Acoustic Style\, with Mark Dziuba and
  Robert Bard – Salon Stage
DESCRIPTION:\nComplimentary with Brunch\nOur Salon Stage provides Complimen
 tary Live Music while you dine. We feature amazing local Hudson Valley and
  touring artists nightly. Join us for dinner and you may discover one of y
 our new favorite artists. As always\, we prioritize seating for guests who
  are joining us for dinner. We also provide a great Tap Room for enjoying 
 a cocktail or beer while listening to the live music on our Salon Stage.\n
 \nThe name Big Joe Fitz has been synonymous with soulful music in New York
 ’s Hudson Valley for more than 30 years. He is a warm\, engaging perform
 er who never fails to connect with the audience.\n\n\nReservations suggest
 ed\; call 845-855-1300 to book your table.
ATTACH;FMTTYPE=image/jpeg:https://townecrier.com/wp-content/uploads/2025/0
 3/Big-Joe-Fitz-Acoustic-Style-web.jpg
CATEGORIES:Salon Stage
END:VEVENT
BEGIN:VTIMEZONE
TZID:America/New_York
X-LIC-LOCATION:America/New_York
BEGIN:DAYLIGHT
DTSTART:20250309T030000
TZOFFSETFROM:-0500
TZOFFSETTO:-0400
TZNAME:EDT
END:DAYLIGHT
END:VTIMEZONE
END:VCALENDAR