BEGIN:VCALENDAR
VERSION:2.0
PRODID:-//wp-events-plugin.com//7.2.1//EN
TZID:America/New_York
X-WR-TIMEZONE:America/New_York
BEGIN:VEVENT
UID:617@townecrier.com
DTSTART;TZID=America/New_York:20260329T183000
DTEND;TZID=America/New_York:20260329T183000
DTSTAMP:20260217T222440Z
URL:https://townecrier.com/events/david-bernz-jacob-bernz-andy-davis-and-m
 att-emmer-songs-stories-and-an-old-fashioned-pub-sing-salon-stage/
SUMMARY:David Bernz\, Jacob Bernz\, Andy Davis and Matt Emmer: Songs\, Stor
 ies and an old-fashioned Pub-Sing! - Salon Stage
DESCRIPTION:Complimentary with Dinner\nOur Salon Stage provides Complimenta
 ry Live Music while you dine. We feature amazing local Hudson Valley and t
 ouring artists nightly. You may discover one of your new favorite artists.
  As always\, we prioritize seating for guests who are joining us for dinne
 r. We also provide a great Tap Room for enjoying a cocktail or beer while 
 listening to the live music on our Salon Stage.\n\nLocal musicians David a
 nd Jacob Bernz will be joined by New Hampshire’s master storyteller Andy
  Davis interweaving his tales with musical ballads the tell stories of the
 ir own. There will be a special set from singer-songwriter Matt Emmer of w
 estern Massachusetts\, and the evening will end off with an old-fashioned 
 pub sing where members of the local community will be called upon to lead 
 us all in song.\n\nDavid and Jacob Bernz are a father-son team of folksing
 ers and songwriters hailing from New York State’s Hudson Valley region. 
 David Bernz has been performing for over forty years as a solo artist and 
 in groups such as Dave\, Perry\, Rande and Work o’ the Weavers\, blendin
 g traditional folk with modern styles. He has toured the United States\, C
 anada and Israel and he has won two Grammy awards for producing CDs for th
 e legendary Pete Seeger. Jacob Bernz is one of the Valley’s most prolifi
 c songwriters with almost two-thousand original songs and several CDs to h
 is credit\, and has shared the stage with luminaries such as Tom Chapin\, 
 David Amram\, Jackson Browne and Janis Ian. Together\, they sing\, harmoni
 ze and engage.\n\nAndy Davis\, a New Hampshire-based storyteller\, got his
  start telling comic tales by candlelight in Mexican refugee camps 30 year
 s ago. He’s been refining his craft ever since\, entertaining audiences 
 as far north as County Down\, as far east as Paris\, as far south as Bamak
 o\, and as far west as San Diego. His varied repertoire contains equal par
 ts multicultural folklore\, magical realism\, grassroots history\, and per
 sonal experience. He can tell a shaggy dog with the best of them\, and the
 n follow it up with a poignant family story laden with meaning. He is equa
 lly at home sharing the lore and legends of the mountains and woods of nor
 thern New England and creating verbal portraits of political courage.\n\nM
 att Emmer is a singer-songwriter based in western Massachusetts. His music
  bridges the many avenues of American folk music with contemporary sounds.
  Drawing from the deep well of traditional song and the raw honesty of ind
 ie rock\, Matt creates music that is both rooted and exploratory. Performi
 ng at venues such a Club Passim\, the Tarrytown Music Hall and the Clearwa
 ter Festival\, and with luminaries such as Jackson Browne\, Janis Ian and 
 Arlo Guthrie\, Matt invites audiences into a shared community with each so
 ng.\n\nReservations suggested\; call 845-855-1300 to book your table.
ATTACH;FMTTYPE=image/jpeg:https://townecrier.com/wp-content/uploads/2026/0
 2/David-Jacob-Bernz-Pub-Sing-comp-web.jpg
CATEGORIES:Salon Stage
END:VEVENT
BEGIN:VTIMEZONE
TZID:America/New_York
X-LIC-LOCATION:America/New_York
BEGIN:DAYLIGHT
DTSTART:20260308T030000
TZOFFSETFROM:-0500
TZOFFSETTO:-0400
TZNAME:EDT
END:DAYLIGHT
END:VTIMEZONE
END:VCALENDAR