BEGIN:VCALENDAR
VERSION:2.0
PRODID:-//wp-events-plugin.com//7.2.1//EN
TZID:America/New_York
X-WR-TIMEZONE:America/New_York
BEGIN:VEVENT
UID:476@townecrier.com
DTSTART;TZID=America/New_York:20251107T183000
DTEND;TZID=America/New_York:20251107T183000
DTSTAMP:20251018T225429Z
URL:https://townecrier.com/events/carillo-seville-salon-stage/
SUMMARY:Carillo / Seville – Salon Stage
DESCRIPTION:\nComplimentary with Dinner\nOur Salon Stage provides Complimen
 tary Live Music while you dine. We feature amazing local Hudson Valley and
  touring artists nightly. You may discover one of your new favorite artist
 s. As always\, we prioritize seating for guests who are joining us for din
 ner. We also provide a great Tap Room for enjoying a cocktail or beer whil
 e listening to the live music on our Salon Stage.\n\nFrank Carillo and Edd
 ie Seville are solo artists who began writing and touring as an acoustic d
 uo playing a mix of each other’s work and co-writes while delivering ste
 llar performances filled with great stories and songs.\n\nFrank Carillo’
 s craftsmanship as a world-class guitar player and songwriter\, along with
  his affable persona has allowed him to make an indelible mark on the inte
 rnational music scene. Personally signed to Atlantic Records by the legend
 ary Ahmet Ertegun\, Frank has worked with a who’s who of A-list artists 
 throughout his career and performed to sold-out arenas across the US and E
 urope.\n\nwww.frankcarillo.com\n\nEddie Seville is an American songwriter 
 who’s written songs released on Island / Atlantic and Universal Records\
 , as well as music aired on the top three US television networks and HBO. 
 His ability to cross musical genres with raw honesty and lyrical depth has
  made him a respected figure among\n\nperformers and his songs are covered
  by local musicians\, regional bands and international artists.\n\nwww.edd
 ieseville.com\n\n\nReservations suggested\; call 845-855-1300 to book your
  table.
ATTACH;FMTTYPE=image/jpeg:https://townecrier.com/wp-content/uploads/2022/0
 6/CARILLO-SEVILLE.jpg
CATEGORIES:Salon Stage
END:VEVENT
BEGIN:VTIMEZONE
TZID:America/New_York
X-LIC-LOCATION:America/New_York
BEGIN:STANDARD
DTSTART:20251102T010000
TZOFFSETFROM:-0400
TZOFFSETTO:-0500
TZNAME:EST
END:STANDARD
END:VTIMEZONE
END:VCALENDAR