BEGIN:VCALENDAR
VERSION:2.0
PRODID:-//wp-events-plugin.com//7.2.1//EN
TZID:America/New_York
X-WR-TIMEZONE:America/New_York
BEGIN:VEVENT
UID:91@townecrier.com
DTSTART;TZID=America/New_York:20250103T200000
DTEND;TZID=America/New_York:20250103T200000
DTSTAMP:20241114T190942Z
URL:https://townecrier.com/events/buffalo-stack-featuring-andy-stack/
SUMMARY:Buffalo Stack featuring Andy Stack
DESCRIPTION:\n\nSome musicians are content to be sidemen/women. There’s a
  simplicity to it\, and if that’s your calling\, it can be quite fulfill
 ing. Other people have an inner voice and vision that demands to be shared
 . You can only suppress that voice for so long before you have no choice b
 ut to heed its call.\n\nAfter thriving as a sideman musician in the New Yo
 rk City music scene for several years\, writer\, guitarist and vocalist An
 dy Stack heeded that call and headed north on a whim to the Hudson Valley 
 (home to luminaries like Bob Dylan and The Band) and founded the group Buf
 falo Stack.\n\nIt was in this mountainous region of the state where Andy
 ’s own voice began to blossom free from the hustle of the NYC lifestyle\
 , but with the musical prowess formed in the crucible of the big city scen
 e.\n\nAndy brings to Buffalo Stack his command of American roots music\, h
 is knowledge of the folk traditions from his ancestors’ homeland of Irel
 and and his modern music sensibilities. Influences from Chicago to the Del
 ta\, from New Orleans to New York City\, all find their way into the cockt
 ail. He culls the deep cuts for material\, improvises solos with a compell
 ing approach to his instrument\, and leads the band through a dynamic and 
 adventurous set of original songs and carefully selected covers.\n\nThe ba
 nd in its versatility has performed in different formations from duo to bi
 g band with a horn section and background singers\, consistently bringing 
 enthusiastic audiences to their feet.\n\nAndy has collaborated as a guitar
 ist\, multi-instrumentalist\, vocalist\, and record producer with artists 
 such as Amy Helm\, Duncan Sheik\, Suzanne Vega\, Lucius\, Teddy Thompson\,
  Jonah Smith\, Mike and Ruthy\, Les Nubians\, NY Ska Jazz Ensemble\, and m
 any others. He holds a Bachelor of Music in Jazz Studies from SUNY Purchas
 e.\n\nTickets $20 advance\, $25 door\n\n\nALL SALES ARE FINAL\n\nDINNER RE
 SERVATIONS REQUIRE 1 ENTREE PER PERSON\n\nSHOW ONLY TICKETS ADMITTED 15 MI
 NUTES BEFORE SHOWTIME\n\nADVANCE SALE PRICE ENDS 1 HOUR BEFORE DOORS
ATTACH;FMTTYPE=image/jpeg:https://townecrier.com/wp-content/uploads/2023/1
 0/Buffalo-Stack_live-web.jpg
CATEGORIES:Main Stage
END:VEVENT
BEGIN:VTIMEZONE
TZID:America/New_York
X-LIC-LOCATION:America/New_York
BEGIN:STANDARD
DTSTART:20241103T010000
TZOFFSETFROM:-0400
TZOFFSETTO:-0500
TZNAME:EST
END:STANDARD
END:VTIMEZONE
END:VCALENDAR