BEGIN:VCALENDAR
VERSION:2.0
PRODID:-//wp-events-plugin.com//7.2.1//EN
TZID:America/New_York
X-WR-TIMEZONE:America/New_York
BEGIN:VEVENT
UID:661@townecrier.com
DTSTART;TZID=America/New_York:20260502T203000
DTEND;TZID=America/New_York:20260502T203000
DTSTAMP:20260324T215416Z
URL:https://townecrier.com/events/big-yellow-taxi-the-music-of-joni-mitche
 ll/
SUMMARY:Big Yellow Taxi: The Music of Joni Mitchell
DESCRIPTION:Big Yellow Taxi celebrates Joni Mitchell’s musical genius. Le
 d by the soaring vocals of Teresa Lorenço\, Big Yellow Taxi is an energet
 ic journey through Joni’s catalog — all the well-known songs and a lot
  more. BYT plays Joni Folk\, Joni Rock\, Joni Pop and Joni Jazz. It’s a 
 music lovers and Joni Mitchell fan’s dream come true!\n\nYouTube channel
 \n\nWebsite\n\nTickets $30 advance\, $35 door\n\nALL SALES ARE FINAL\n\nDI
 NNER RESERVATIONS REQUIRE 1 ENTREE PER PERSON\n\nSHOW ONLY TICKETS ADMITTE
 D 15 MINUTES BEFORE SHOWTIME\n\nADVANCE SALE PRICE ENDS 1 HOUR BEFORE DOOR
 S\n\nhttps://youtu.be/emGEZg1xRLQ?si=Lr7uj7R_OJbo8A81
ATTACH;FMTTYPE=image/jpeg:https://townecrier.com/wp-content/uploads/2026/0
 3/Big-Yellow-Taxi-cropped-web.jpg
CATEGORIES:Main Stage
END:VEVENT
BEGIN:VTIMEZONE
TZID:America/New_York
X-LIC-LOCATION:America/New_York
BEGIN:DAYLIGHT
DTSTART:20260308T030000
TZOFFSETFROM:-0500
TZOFFSETTO:-0400
TZNAME:EDT
END:DAYLIGHT
END:VTIMEZONE
END:VCALENDAR