BEGIN:VCALENDAR
VERSION:2.0
PRODID:-//wp-events-plugin.com//7.2.1//EN
TZID:America/New_York
X-WR-TIMEZONE:America/New_York
BEGIN:VEVENT
UID:332@townecrier.com
DTSTART;TZID=America/New_York:20250706T183000
DTEND;TZID=America/New_York:20250706T183000
DTSTAMP:20250627T192644Z
URL:https://townecrier.com/events/big-joe-fitz-salon-stage/
SUMMARY:Big Joe Fitz – Salon Stage
DESCRIPTION:Complimentary with Dinner\nOur Salon Stage provides Complimenta
 ry Live Music while you dine. We feature amazing local Hudson Valley and t
 ouring artists on weekends. Join us for brunch and you may discover one of
  your new favorite artists. As always\, we prioritize seating for guests w
 ho are joining us for dinner. We also provide a great Tap Room for enjoyin
 g a cocktail or beer while listening to the live music on our Salon Stage.
 \n\nThe name Big Joe Fitz has been synonymous with soulful music in New Yo
 rk’s Hudson Valley for more than 30 years. He is a warm\, engaging perfo
 rmer who never fails to connect with the audience.\n\nReservations suggest
 ed\; call 845-855-1300 to book your table.\n\nWebsite
ATTACH;FMTTYPE=image/jpeg:https://townecrier.com/wp-content/uploads/2025/0
 6/Big-Joe-Fitz-mic.jpg
CATEGORIES:Salon Stage
END:VEVENT
BEGIN:VTIMEZONE
TZID:America/New_York
X-LIC-LOCATION:America/New_York
BEGIN:DAYLIGHT
DTSTART:20250309T030000
TZOFFSETFROM:-0500
TZOFFSETTO:-0400
TZNAME:EDT
END:DAYLIGHT
END:VTIMEZONE
END:VCALENDAR