BEGIN:VCALENDAR
VERSION:2.0
PRODID:-//wp-events-plugin.com//7.2.1//EN
TZID:America/New_York
X-WR-TIMEZONE:America/New_York
BEGIN:VEVENT
UID:346@townecrier.com
DTSTART;TZID=America/New_York:20251025T203000
DTEND;TZID=America/New_York:20251025T203000
DTSTAMP:20251025T185247Z
URL:https://townecrier.com/events/back-to-the-garden-1969-a-hippie-hallowe
 en/
SUMMARY:Back To The Garden 1969: A Hippie Halloween!
DESCRIPTION:Back to the Garden 1969 is America’s premier Woodstock tribut
 e band\, featuring renditions of hits by Crosby\, Stills\, Nash &amp\; You
 ng\, Joe Cocker\, Sly &amp\; the Family Stone\, Santana\, Janis Joplin and
  many others who took the stage on that historic weekend in August 1969.\n
 \nCome dressed as your favorite 60’s personality\, or since you’re an 
 old hippie…just come as you are!\n\nTickets: $30 advance / $35 at the do
 or\n\nALL SALES ARE FINAL\n\nDINNER RESERVATIONS REQUIRE 1 ENTREE PER PERS
 ON\n\nSHOW ONLY TICKETS ADMITTED 15 MINUTES BEFORE SHOWTIME\n\nADVANCE SAL
 E PRICE ENDS 1 HOUR BEFORE DOORS\n\n&nbsp\;
ATTACH;FMTTYPE=image/jpeg:https://townecrier.com/wp-content/uploads/2022/0
 4/Back-to-the-Garden-1969-w-logo-web.jpg
CATEGORIES:Main Stage
END:VEVENT
BEGIN:VTIMEZONE
TZID:America/New_York
X-LIC-LOCATION:America/New_York
BEGIN:DAYLIGHT
DTSTART:20250309T030000
TZOFFSETFROM:-0500
TZOFFSETTO:-0400
TZNAME:EDT
END:DAYLIGHT
END:VTIMEZONE
END:VCALENDAR