BEGIN:VCALENDAR
VERSION:2.0
PRODID:-//wp-events-plugin.com//7.2.1//EN
TZID:America/New_York
X-WR-TIMEZONE:America/New_York
BEGIN:VEVENT
UID:192@townecrier.com
DTSTART;TZID=America/New_York:20250323T183000
DTEND;TZID=America/New_York:20250323T183000
DTSTAMP:20250211T122116Z
URL:https://townecrier.com/events/andy-staack-salon-stage/
SUMMARY:Andy Stack – Salon Stage
DESCRIPTION:\nComplimentary with Dinner\nOur Salon Stage provides Complimen
 tary Live Music while you dine. We feature amazing local Hudson Valley and
  touring artists nightly. You may discover one of your new favorite artist
 s. As always\, we prioritize seating for guests who are joining us for din
 ner. We also provide a great Tap Room for enjoying a cocktail or beer whil
 e listening to the live music on our Salon Stage.\n\n\nSome musicians are 
 content to be sidemen/women. There’s a simplicity to it\, and if that’
 s your calling\, it can be quite fulfilling. Other people have an inner vo
 ice and vision that demands to be shared. You can only suppress that voice
  for so long before you have no choice but to heed its call.\n\nAfter thri
 ving as a sideman musician in the New York City music scene for several ye
 ars\, writer\, guitarist and vocalist Andy Stack heeded that call and head
 ed north on a whim to the Hudson Valley (home to luminaries like Bob Dylan
  and The Band) and founded the group Buffalo Stack.\n\n\nReservations sugg
 ested\; call 845-855-1300 to book your table.\n\n
ATTACH;FMTTYPE=image/jpeg:https://townecrier.com/wp-content/uploads/2025/0
 1/Andy-Stack-web.jpg
CATEGORIES:Salon Stage
END:VEVENT
BEGIN:VTIMEZONE
TZID:America/New_York
X-LIC-LOCATION:America/New_York
BEGIN:DAYLIGHT
DTSTART:20250309T030000
TZOFFSETFROM:-0500
TZOFFSETTO:-0400
TZNAME:EDT
END:DAYLIGHT
END:VTIMEZONE
END:VCALENDAR