BEGIN:VCALENDAR
VERSION:2.0
PRODID:-//wp-events-plugin.com//7.2.1//EN
TZID:America/New_York
X-WR-TIMEZONE:America/New_York
BEGIN:VEVENT
UID:218@townecrier.com
DTSTART;TZID=America/New_York:20250327T190000
DTEND;TZID=America/New_York:20250327T190000
DTSTAMP:20250327T190530Z
URL:https://townecrier.com/events/anda-union/
SUMMARY:Anda Union
DESCRIPTION:Anda Union performs indigenous music from the Inner Mongolian g
 rasslands.\n\nAs with all nomads the Mongols have an oral culture\, passed
  on generation to generation in stories\, music and songs and thus Anda Un
 ion sing their history. The band’s thoroughly addictive combination of M
 ongolian musical styles is a reflection of their roots.\n\nFormed in 2000\
 , Anda Union have influenced a generation of young Mongolians in Inner Mon
 golia as traditional music flourishes in the capital. Hailing from differi
 ng ethnic nomadic cultures\, the ten strong band unite tribal and music tr
 aditions from all over Inner Mongolia. They do do so by bringing a wide ra
 nge of musical instruments and vocal styles together in a fusion that Geng
 his Khan himself would have been proud of.\n\nThey were chosen to appear o
 n a Chinese version of “The Voice” and blew everyone away. The show is
  called “The Big Band\,” and in the first round they went up against 2
 6 rock bands. They performed their big song\, “Jangar” in Mongolian wi
 th all their throat singing and horse head fiddles\, and they were voted n
 umber one by the audience! (see video below)\n\nTickets $30 advance\, $35 
 door\n\nALL SALES ARE FINAL\n\nDINNER RESERVATIONS REQUIRE 1 ENTREE PER PE
 RSON\n\nSHOW ONLY TICKETS ADMITTED 15 MINUTES BEFORE SHOWTIME\n\nADVANCE S
 ALE PRICE ENDS 1 HOUR BEFORE DOORS\n\nhttps://www.youtube.com/watch?v=msfR
 xr9CwCI\n\nhttps://www.youtube.com/watch?v=WkShgqC7aEQ&amp\;t=39s
ATTACH;FMTTYPE=image/jpeg:https://townecrier.com/wp-content/uploads/2025/0
 2/anda_union_alt-web.jpg
CATEGORIES:Main Stage
END:VEVENT
BEGIN:VTIMEZONE
TZID:America/New_York
X-LIC-LOCATION:America/New_York
BEGIN:DAYLIGHT
DTSTART:20250309T030000
TZOFFSETFROM:-0500
TZOFFSETTO:-0400
TZNAME:EDT
END:DAYLIGHT
END:VTIMEZONE
END:VCALENDAR