BEGIN:VCALENDAR
VERSION:2.0
PRODID:-//wp-events-plugin.com//7.2.1//EN
TZID:America/New_York
X-WR-TIMEZONE:America/New_York
BEGIN:VEVENT
UID:644@townecrier.com
DTSTART;TZID=America/New_York:20260425T203000
DTEND;TZID=America/New_York:20260425T203000
DTSTAMP:20260421T212550Z
URL:https://townecrier.com/events/adam-ezra-group-2/
SUMMARY:Adam Ezra Group
DESCRIPTION:DINNER &amp\; SHOW SOLD OUT! LIMITED SHOW TICKETS! CALL 845 855
 -1300 FOR AVAILABILITY\nWelcome to Adam Ezra Group\n\n❖ He takes a month
  out of each year to visit the living rooms of his fans around the country
 …\n\n❖ His band and nonprofit organization RallySound host a free fest
 ival every summer that raised $161\,000 for homeless veterans in 2025…\n
 \n❖ He live-streamed for 500 nights in a row during the pandemic…\n\n
 ❖ They co-produced an album with 163 fans…\n\nIf you haven’t connect
 ed with Adam Ezra Group yet\, these are just a few examples to help you un
 derstand how this underground\, Americana songwriter and his bandmates see
 m to have popped out of nowhere\, establishing a connection with their fan
 s unlike any other\, and are suddenly selling out theaters throughout the 
 Northeast.\n\nAdam Ezra will joke with you that while the “nowhere” pa
 rt might be accurate\, nothing has ever just “popped” for this folk mu
 sician\, activist. Without resources\, connections\, or any kind of clue h
 ow the music world works\, Ezra began playing shows over 20 years ago. Whe
 n music venues wouldn’t hire him\, he played bars\, bookstores\, fields\
 , and parking lots\, often raising money for causes he cared about\; a pra
 ctice that grew into his nonprofit organization RallySound.\n\n“We’d p
 lay 5 hours a night\,” Adam reminisces\, “more often than not\, in dan
 ger of outnumbering the audiences we were playing for…”\n\nSo how did 
 this band operating so far outside the traditional music world come to win
  New England Music Award’s “Americana Act of the Year” in 2023? What
  could have happened to inspire John Oates to call Adam and invite him to 
 begin a songwriting friendship that would lead to John producing their co-
 write\, “Hold Each Other Now”? What happened to catch the attention of
  The Wallflowers\, who recently invited AEG to join them on their spring t
 our\, or SPIN Magazine who recently proclaimed\, “This Independent Under
 ground Folk Band Is Blowing Up Without Selling Out”?\n\nIf you ask Adam\
 , he’ll tell you:\n\n“One person at a time\, over many years and thous
 ands of shows\, decided to turn their heads to listen. One person at a tim
 e decided to share our music with folks they care about. That’s always b
 een our story. It’s no fairytale\, but it sure makes me proud and humble
 d when I look out from the stage to watch theaters full of people singing 
 along to our music.”\n\nThese days you’ll find Adam and his bandmates\
 , Corinna Smith (Fiddle)\, Poche Ponce (Bass)\, and Alex Martin (Percussio
 n)\, constantly out on the road. If you look at their tour schedule now\, 
 you can buy tickets to see them at festivals\, rock venues\, and theaters 
 around the country\, but you will also see their tour continuously peppere
 d with activism and grassroots events\; a testament to an artist who will 
 never forget where he came from\, and whose mission is about much more tha
 n music.\n\nWebsite\n\nFacebook\n\nInstagram\n\nYouTube\n\nTickets $35 adv
 ance / $40 door\n\nALL SALES ARE FINAL\n\nDINNER RESERVATIONS REQUIRE 1 EN
 TREE PER PERSON\n\nSHOW ONLY TICKETS ADMITTED 15 MINUTES BEFORE SHOWTIME\n
 \nADVANCE SALE PRICE ENDS 1 HOUR BEFORE DOORS\n\nhttps://www.youtube.com/w
 atch?v=n49YIHz48Dw&amp\;t=266s
ATTACH;FMTTYPE=image/jpeg:https://townecrier.com/wp-content/uploads/2025/0
 6/Adam-Ezra-Group-web.jpg
CATEGORIES:Main Stage
END:VEVENT
BEGIN:VTIMEZONE
TZID:America/New_York
X-LIC-LOCATION:America/New_York
BEGIN:DAYLIGHT
DTSTART:20260308T030000
TZOFFSETFROM:-0500
TZOFFSETTO:-0400
TZNAME:EDT
END:DAYLIGHT
END:VTIMEZONE
END:VCALENDAR